BEGIN:VCALENDAR
VERSION:2.0
PRODID:-//ddaysoftware.com//NONSGML DDay.iCal 1.0//EN
BEGIN:VEVENT
DESCRIPTION:Food\nApril 20 - 24
DTSTAMP:20260420T043438
DTSTART;VALUE=DATE:20260420
LOCATION:The Hotel at Kirkwood Center - 7725  Kirkwood Boulevard SW\, Cedar
  Rapids\, Iowa\, 52404\, United States
SEQUENCE:0
SUMMARY:Administrative Professionals Week
UID:1c4cea3e-90ad-459a-a3ba-f612d69260d1
URL:https://www.thehotelatkirkwood.com/events-calendar.aspx?date=4/20/2026&
 display=event&eventid=2546699
END:VEVENT
BEGIN:VEVENT
DESCRIPTION:Food\nApril 20 - 24
DTSTAMP:20260420T043438
DTSTART;VALUE=DATE:20260421
LOCATION:The Hotel at Kirkwood Center - 7725  Kirkwood Boulevard SW\, Cedar
  Rapids\, Iowa\, 52404\, United States
SEQUENCE:0
SUMMARY:Administrative Professionals Week
UID:0cbf5b95-305e-4b27-89d2-d4427e282881
URL:https://www.thehotelatkirkwood.com/events-calendar.aspx?date=4/21/2026&
 display=event&eventid=2546700
END:VEVENT
BEGIN:VEVENT
DESCRIPTION:Food\nApril 20 - 24
DTSTAMP:20260420T043438
DTSTART;VALUE=DATE:20260422
LOCATION:The Hotel at Kirkwood Center - 7725  Kirkwood Boulevard SW\, Cedar
  Rapids\, Iowa\, 52404\, United States
SEQUENCE:0
SUMMARY:Administrative Professionals Week
UID:0b105646-7fa7-4e97-94bb-4277d05ad4d6
URL:https://www.thehotelatkirkwood.com/events-calendar.aspx?date=4/22/2026&
 display=event&eventid=2546701
END:VEVENT
BEGIN:VEVENT
DESCRIPTION:Food\nApril 20 - 24
DTSTAMP:20260420T043438
DTSTART;VALUE=DATE:20260423
LOCATION:The Hotel at Kirkwood Center - 7725  Kirkwood Boulevard SW\, Cedar
  Rapids\, Iowa\, 52404\, United States
SEQUENCE:0
SUMMARY:Administrative Professionals Week
UID:d1b227bf-e425-4b17-92c2-6240432bb997
URL:https://www.thehotelatkirkwood.com/events-calendar.aspx?date=4/23/2026&
 display=event&eventid=2546702
END:VEVENT
BEGIN:VEVENT
DESCRIPTION:Food\nApril 20 - 24
DTSTAMP:20260420T043438
DTSTART;VALUE=DATE:20260424
LOCATION:The Hotel at Kirkwood Center - 7725  Kirkwood Boulevard SW\, Cedar
  Rapids\, Iowa\, 52404\, United States
SEQUENCE:0
SUMMARY:Administrative Professionals Week
UID:98f02918-5701-4453-8bdf-511421f5d9f7
URL:https://www.thehotelatkirkwood.com/events-calendar.aspx?date=4/24/2026&
 display=event&eventid=2546703
END:VEVENT
BEGIN:VEVENT
DESCRIPTION:Shows/Performances\nTune in to KCRG for our Everyday Foodies se
 gment. 
DTEND:20260428T100000
DTSTAMP:20260420T043438
DTSTART:20260428T094500
LOCATION:Watch on KCRG Everyday Iowa - 7725  Kirkwood Boulevard SW\, Cedar 
 Rapids\, Iowa\, 52404\, United States
SEQUENCE:0
SUMMARY:KCRG Everyday Foodies
UID:793e698c-777f-4372-bb2e-6485ea831e1b
URL:https://www.thehotelatkirkwood.com/events-calendar.aspx?date=4/28/2026&
 display=event&eventid=2520743
END:VEVENT
BEGIN:VEVENT
DESCRIPTION:Food\nMother's Day Afternoon Tea 
DTEND:20260503T160000
DTSTAMP:20260420T043438
DTSTART:20260503T150000
LOCATION:The Class Act Restaurant - 7725  Kirkwood Boulevard SW\, Cedar Rap
 ids\, Iowa\, 52404\, United States
SEQUENCE:0
SUMMARY:Mother's Day Afternoon Tea
UID:593d4c7f-0adc-4982-89bf-9cbc05f9624c
URL:https://www.thehotelatkirkwood.com/events-calendar.aspx?date=5/3/2026&d
 isplay=event&eventid=2520774
END:VEVENT
BEGIN:VEVENT
DESCRIPTION:Food\nWorld Culinary Tour 2026
DTEND:20260505T210000
DTSTAMP:20260420T043438
DTSTART:20260505T160000
LOCATION:The Class Act Restaurant - 7725  Kirkwood Boulevard SW\, Cedar Rap
 ids\, Iowa\, 52404\, United States
SEQUENCE:0
SUMMARY:Passport Dinner
UID:24e4b39c-4e9c-4d10-9c06-bedd4eddd6cb
URL:https://www.thehotelatkirkwood.com/events-calendar.aspx?date=5/5/2026&d
 isplay=event&eventid=2521357
END:VEVENT
BEGIN:VEVENT
DESCRIPTION:Food\nWorld Culinary Tour 2026
DTEND:20260506T210000
DTSTAMP:20260420T043438
DTSTART:20260506T160000
LOCATION:The Class Act Restaurant - 7725  Kirkwood Boulevard SW\, Cedar Rap
 ids\, Iowa\, 52404\, United States
SEQUENCE:0
SUMMARY:Passport Dinner
UID:7387203c-2a61-46cd-9517-33379527eb66
URL:https://www.thehotelatkirkwood.com/events-calendar.aspx?date=5/6/2026&d
 isplay=event&eventid=2521358
END:VEVENT
BEGIN:VEVENT
DESCRIPTION:Food\nWorld Culinary Tour 2026
DTEND:20260507T210000
DTSTAMP:20260420T043438
DTSTART:20260507T160000
LOCATION:The Class Act Restaurant - 7725  Kirkwood Boulevard SW\, Cedar Rap
 ids\, Iowa\, 52404\, United States
SEQUENCE:0
SUMMARY:Passport Dinner
UID:86c9f530-dbb7-4dee-9ab9-7a401f0ad096
URL:https://www.thehotelatkirkwood.com/events-calendar.aspx?date=5/7/2026&d
 isplay=event&eventid=2521359
END:VEVENT
BEGIN:VEVENT
DESCRIPTION:Food\nMother's Day Afternoon Tea
DTEND:20260509T170000
DTSTAMP:20260420T043438
DTSTART:20260509T150000
LOCATION:The Class Act Restaurant - 7725  Kirkwood Boulevard SW\, Cedar Rap
 ids\, Iowa\, 52404\, United States
SEQUENCE:0
SUMMARY:Mother's Day Afternoon Tea
UID:a8f93cfc-aee9-441d-bc15-f38dbcd70da1
URL:https://www.thehotelatkirkwood.com/events-calendar.aspx?date=5/9/2026&d
 isplay=event&eventid=2520775
END:VEVENT
BEGIN:VEVENT
DESCRIPTION:Food\nMother's Day Plated Brunch Specials 
DTEND:20260510T160000
DTSTAMP:20260420T043438
DTSTART:20260510T070000
LOCATION:The Class Act Restaurant - 7725  Kirkwood Boulevard SW\, Cedar Rap
 ids\, Iowa\, 52404\, United States
SEQUENCE:0
SUMMARY:Mother's Day Plated Brunch Specials in The Class Act Restaurant
UID:a9ff8fed-41b0-4edf-8bee-c49343791188
URL:https://www.thehotelatkirkwood.com/events-calendar.aspx?date=5/10/2026&
 display=event&eventid=2520777
END:VEVENT
BEGIN:VEVENT
DESCRIPTION:Food\nMother's Day Ballroom Brunch
DTEND:20260510T143000
DTSTAMP:20260420T043438
DTSTART:20260510T100000
LOCATION:The Hotel at Kirkwood Center - 7725  Kirkwood Boulevard SW\, Cedar
  Rapids\, Iowa\, 52404\, United States
SEQUENCE:0
SUMMARY:Mother's Day Ballroom Brunch
UID:0fd7e5ce-fd2c-45bd-bbe5-7c04a5f6fce2
URL:https://www.thehotelatkirkwood.com/events-calendar.aspx?date=5/10/2026&
 display=event&eventid=2520776
END:VEVENT
BEGIN:VEVENT
DESCRIPTION:Shows/Performances\nTune in to KCRG for our Everyday Foodies se
 gment.
DTEND:20260512T100000
DTSTAMP:20260420T043438
DTSTART:20260512T094500
LOCATION:Watch on KCRG Everyday Iowa - 7725  Kirkwood Boulevard SW\, Cedar 
 Rapids\, Iowa\, 52404\, United States
SEQUENCE:0
SUMMARY:KCRG Everyday Foodies
UID:c10aec96-90b1-45a3-af3e-f972de708fa9
URL:https://www.thehotelatkirkwood.com/events-calendar.aspx?date=5/12/2026&
 display=event&eventid=2520744
END:VEVENT
BEGIN:VEVENT
DESCRIPTION:Shows/Performances\nTune in to KCRG for our Everyday Foodies se
 gment. 
DTEND:20260526T100000
DTSTAMP:20260420T043438
DTSTART:20260526T094500
LOCATION:Watch on KCRG Everyday Iowa - 7725  Kirkwood Boulevard SW\, Cedar 
 Rapids\, Iowa\, 52404\, United States
SEQUENCE:0
SUMMARY:KCRG Everyday Foodies
UID:79d32957-b7ac-4898-8cee-6007c6fb5cd1
URL:https://www.thehotelatkirkwood.com/events-calendar.aspx?date=5/26/2026&
 display=event&eventid=2520745
END:VEVENT
BEGIN:VEVENT
DESCRIPTION:Food\nWorld Culinary Tour 2026
DTEND:20260602T210000
DTSTAMP:20260420T043438
DTSTART:20260602T160000
LOCATION:The Class Act Restaurant - 7725  Kirkwood Boulevard SW\, Cedar Rap
 ids\, Iowa\, 52404\, United States
SEQUENCE:0
SUMMARY:Passport Dinner
UID:e83b1b20-78b2-4b93-af4e-882c61ae6cde
URL:https://www.thehotelatkirkwood.com/events-calendar.aspx?date=6/2/2026&d
 isplay=event&eventid=2521363
END:VEVENT
BEGIN:VEVENT
DESCRIPTION:Food\nWorld Culinary Tour 2026
DTEND:20260603T210000
DTSTAMP:20260420T043438
DTSTART:20260603T160000
LOCATION:The Class Act Restaurant - 7725  Kirkwood Boulevard SW\, Cedar Rap
 ids\, Iowa\, 52404\, United States
SEQUENCE:0
SUMMARY:Passport Dinner
UID:581dd1ca-ef4e-4d58-a5b3-8d773f8985c9
URL:https://www.thehotelatkirkwood.com/events-calendar.aspx?date=6/3/2026&d
 isplay=event&eventid=2521364
END:VEVENT
BEGIN:VEVENT
DESCRIPTION:Food\nWorld Culinary Tour 2026
DTEND:20260604T210000
DTSTAMP:20260420T043438
DTSTART:20260604T160000
LOCATION:The Class Act Restaurant - 7725  Kirkwood Boulevard SW\, Cedar Rap
 ids\, Iowa\, 52404\, United States
SEQUENCE:0
SUMMARY:Passport Dinner
UID:e8d13c91-e55a-4998-adde-6a43c982bb68
URL:https://www.thehotelatkirkwood.com/events-calendar.aspx?date=6/4/2026&d
 isplay=event&eventid=2521365
END:VEVENT
BEGIN:VEVENT
DESCRIPTION:Food\nFather's Day Special in The Class Act Restaurant
DTEND:20260619T220000
DTSTAMP:20260420T043438
DTSTART:20260619T160000
LOCATION:The Class Act Restaurant - 7725  Kirkwood Boulevard SW\, Cedar Rap
 ids\, Iowa\, 52404\, United States
SEQUENCE:0
SUMMARY:Father's Day Supper Club Menu Special
UID:eb662a37-4fda-4aa6-abcb-a59903f7fbaa
URL:https://www.thehotelatkirkwood.com/events-calendar.aspx?date=6/19/2026&
 display=event&eventid=2520778
END:VEVENT
BEGIN:VEVENT
DESCRIPTION:Food\nFather's Day Special Menu
DTEND:20260620T210000
DTSTAMP:20260420T043438
DTSTART:20260620T160000
LOCATION:The Class Act Restaurant - 7725  Kirkwood Boulevard SW\, Cedar Rap
 ids\, Iowa\, 52404\, United States
SEQUENCE:0
SUMMARY:Father's Day Supper Club Menu Special
UID:7f9efefe-04f1-4df2-bece-086f0bb05065
URL:https://www.thehotelatkirkwood.com/events-calendar.aspx?date=6/20/2026&
 display=event&eventid=2520779
END:VEVENT
BEGIN:VEVENT
DESCRIPTION:Food\nWorld Culinary Tour 2026
DTEND:20260707T210000
DTSTAMP:20260420T043438
DTSTART:20260707T160000
LOCATION:The Class Act Restaurant - 7725  Kirkwood Boulevard SW\, Cedar Rap
 ids\, Iowa\, 52404\, United States
SEQUENCE:0
SUMMARY:Passport Dinner
UID:80d04f91-4d9e-45db-ac69-36ea6acb5812
URL:https://www.thehotelatkirkwood.com/events-calendar.aspx?date=7/7/2026&d
 isplay=event&eventid=2521366
END:VEVENT
BEGIN:VEVENT
DESCRIPTION:Food\nWorld Culinary Tour 2026
DTEND:20260708T210000
DTSTAMP:20260420T043438
DTSTART:20260708T160000
LOCATION:The Class Act Restaurant - 7725  Kirkwood Boulevard SW\, Cedar Rap
 ids\, Iowa\, 52404\, United States
SEQUENCE:0
SUMMARY:Passport Dinner
UID:15a2888e-03fc-4b86-9427-983b60069b86
URL:https://www.thehotelatkirkwood.com/events-calendar.aspx?date=7/8/2026&d
 isplay=event&eventid=2521367
END:VEVENT
BEGIN:VEVENT
DESCRIPTION:Food\nWorld Culinary Tour 2026
DTEND:20260709T210000
DTSTAMP:20260420T043438
DTSTART:20260709T160000
LOCATION:The Class Act Restaurant - 7725  Kirkwood Boulevard SW\, Cedar Rap
 ids\, Iowa\, 52404\, United States
SEQUENCE:0
SUMMARY:Passport Dinner
UID:5ba3c2b7-d2ba-4e68-82ae-374427432a5b
URL:https://www.thehotelatkirkwood.com/events-calendar.aspx?date=7/9/2026&d
 isplay=event&eventid=2521368
END:VEVENT
BEGIN:VEVENT
DESCRIPTION:Food\nWorld Culinary Tour 2026
DTEND:20260804T210000
DTSTAMP:20260420T043438
DTSTART:20260804T160000
LOCATION:The Class Act Restaurant - 7725  Kirkwood Boulevard SW\, Cedar Rap
 ids\, Iowa\, 52404\, United States
SEQUENCE:0
SUMMARY:Passport Dinner
UID:714bf329-8cb5-49e6-b73a-0d22e14c12f2
URL:https://www.thehotelatkirkwood.com/events-calendar.aspx?date=8/4/2026&d
 isplay=event&eventid=2521369
END:VEVENT
BEGIN:VEVENT
DESCRIPTION:Food\nWorld Culinary Tour 2026
DTEND:20260805T210000
DTSTAMP:20260420T043438
DTSTART:20260805T160000
LOCATION:The Class Act Restaurant - 7725  Kirkwood Boulevard SW\, Cedar Rap
 ids\, Iowa\, 52404\, United States
SEQUENCE:0
SUMMARY:Passport Dinner
UID:c9503881-c36e-4e8a-80d0-ff1adcd6218a
URL:https://www.thehotelatkirkwood.com/events-calendar.aspx?date=8/5/2026&d
 isplay=event&eventid=2521370
END:VEVENT
BEGIN:VEVENT
DESCRIPTION:Food\nWorld Culinary Tour 2026
DTEND:20260806T210000
DTSTAMP:20260420T043438
DTSTART:20260806T160000
LOCATION:The Class Act Restaurant - 7725  Kirkwood Boulevard SW\, Cedar Rap
 ids\, Iowa\, 52404\, United States
SEQUENCE:0
SUMMARY:Passport Dinner
UID:a2a9d180-447e-430c-b353-8493bd6845a6
URL:https://www.thehotelatkirkwood.com/events-calendar.aspx?date=8/6/2026&d
 isplay=event&eventid=2521371
END:VEVENT
BEGIN:VEVENT
DESCRIPTION:Food\nWorld Culinary Tour 2026
DTEND:20260901T210000
DTSTAMP:20260420T043438
DTSTART:20260901T160000
LOCATION:The Class Act Restaurant - 7725  Kirkwood Boulevard SW\, Cedar Rap
 ids\, Iowa\, 52404\, United States
SEQUENCE:0
SUMMARY:Passport Dinner
UID:e81b3dea-b7f4-47af-89ce-16bc30a14e63
URL:https://www.thehotelatkirkwood.com/events-calendar.aspx?date=9/1/2026&d
 isplay=event&eventid=2521372
END:VEVENT
BEGIN:VEVENT
DESCRIPTION:Food\nWorld Culinary Tour 2026
DTEND:20260902T210000
DTSTAMP:20260420T043438
DTSTART:20260902T160000
LOCATION:The Class Act Restaurant - 7725  Kirkwood Boulevard SW\, Cedar Rap
 ids\, Iowa\, 52404\, United States
SEQUENCE:0
SUMMARY:Passport Dinner
UID:8c087ca0-61ac-4003-8a11-a5fe8b4dc9ed
URL:https://www.thehotelatkirkwood.com/events-calendar.aspx?date=9/2/2026&d
 isplay=event&eventid=2521373
END:VEVENT
BEGIN:VEVENT
DESCRIPTION:Food\nWorld Culinary Tour 2026
DTEND:20260903T210000
DTSTAMP:20260420T043438
DTSTART:20260903T160000
LOCATION:The Class Act Restaurant - 7725  Kirkwood Boulevard SW\, Cedar Rap
 ids\, Iowa\, 52404\, United States
SEQUENCE:0
SUMMARY:Passport Dinner
UID:308927db-00c7-47cd-a031-2d5e80e26d7f
URL:https://www.thehotelatkirkwood.com/events-calendar.aspx?date=9/3/2026&d
 isplay=event&eventid=2521374
END:VEVENT
BEGIN:VEVENT
DESCRIPTION:Food\nWorld Culinary Tour 2026
DTEND:20261006T210000
DTSTAMP:20260420T043438
DTSTART:20261006T160000
LOCATION:The Class Act Restaurant - 7725  Kirkwood Boulevard SW\, Cedar Rap
 ids\, Iowa\, 52404\, United States
SEQUENCE:0
SUMMARY:Passport Dinner
UID:85aea7c0-0e7d-47d5-b470-d635f6814603
URL:https://www.thehotelatkirkwood.com/events-calendar.aspx?date=10/6/2026&
 display=event&eventid=2521375
END:VEVENT
BEGIN:VEVENT
DESCRIPTION:Food\nWorld Culinary Tour 2026
DTEND:20261007T210000
DTSTAMP:20260420T043438
DTSTART:20261007T160000
LOCATION:The Class Act Restaurant - 7725  Kirkwood Boulevard SW\, Cedar Rap
 ids\, Iowa\, 52404\, United States
SEQUENCE:0
SUMMARY:Passport Dinner
UID:f3e9e096-6c9c-41aa-ab2a-7d3061c2ff5c
URL:https://www.thehotelatkirkwood.com/events-calendar.aspx?date=10/7/2026&
 display=event&eventid=2521376
END:VEVENT
BEGIN:VEVENT
DESCRIPTION:Food\nWorld Culinary Tour 2026
DTEND:20261008T210000
DTSTAMP:20260420T043438
DTSTART:20261008T160000
LOCATION:The Class Act Restaurant - 7725  Kirkwood Boulevard SW\, Cedar Rap
 ids\, Iowa\, 52404\, United States
SEQUENCE:0
SUMMARY:Passport Dinner
UID:848449fe-70d6-4baf-bcbf-c9cb4df01196
URL:https://www.thehotelatkirkwood.com/events-calendar.aspx?date=10/8/2026&
 display=event&eventid=2521377
END:VEVENT
END:VCALENDAR
